BEGIN:VCALENDAR
VERSION:2.0
PRODID:-//UV+EB Technology - ECPv6.15.20//NONSGML v1.0//EN
CALSCALE:GREGORIAN
METHOD:PUBLISH
X-WR-CALNAME:UV+EB Technology
X-ORIGINAL-URL:https://uvebtech.com
X-WR-CALDESC:Events for UV+EB Technology
REFRESH-INTERVAL;VALUE=DURATION:PT1H
X-Robots-Tag:noindex
X-PUBLISHED-TTL:PT1H
BEGIN:VTIMEZONE
TZID:America/Chicago
BEGIN:DAYLIGHT
TZOFFSETFROM:-0600
TZOFFSETTO:-0500
TZNAME:CDT
DTSTART:20250309T080000
END:DAYLIGHT
BEGIN:STANDARD
TZOFFSETFROM:-0500
TZOFFSETTO:-0600
TZNAME:CST
DTSTART:20251102T070000
END:STANDARD
BEGIN:DAYLIGHT
TZOFFSETFROM:-0600
TZOFFSETTO:-0500
TZNAME:CDT
DTSTART:20260308T080000
END:DAYLIGHT
BEGIN:STANDARD
TZOFFSETFROM:-0500
TZOFFSETTO:-0600
TZNAME:CST
DTSTART:20261101T070000
END:STANDARD
BEGIN:DAYLIGHT
TZOFFSETFROM:-0600
TZOFFSETTO:-0500
TZNAME:CDT
DTSTART:20270314T080000
END:DAYLIGHT
BEGIN:STANDARD
TZOFFSETFROM:-0500
TZOFFSETTO:-0600
TZNAME:CST
DTSTART:20271107T070000
END:STANDARD
END:VTIMEZONE
BEGIN:VEVENT
DTSTART;VALUE=DATE:20260422
DTEND;VALUE=DATE:20260424
DTSTAMP:20260423T104522
CREATED:20251210T202146Z
LAST-MODIFIED:20251210T202146Z
UID:12141-1776816000-1776988799@uvebtech.com
SUMMARY:The Battery Show South
DESCRIPTION:The Premier Destination for Advanced Battery\, EV\, and Energy Storage in the Southeast\n\nApril 22-23\, 2026\, the Battery Show South returns to the Southeast—in Charlotte\, NC—at a pivotal moment shaped by new policies\, shifting market demands\, and expanding regional investment. The Battery Show South brings together the Battery Belt’s growing value chain to explore technologies across advanced batteries\, H/EV systems\, commercial and industrial transportation\, stationary storage\, materials\, recycling\, and more\, backed by a strong network of domestic suppliers. Connect with engineers\, business leaders\, and innovators shaping the future of battery and EV technology during two days of education\, networking\, and hands-on access to the latest solutions from leading exhibitors across the region.
URL:https://uvebtech.com/event/the-battery-show-south/
LOCATION:Charlotte Convention Center\, Charlotte\, North Carolina
CATEGORIES:Conference,Expo,Tradeshow
ATTACH;FMTTYPE=image/avif:https://uvebtech.com/wp-content/uploads/Charlotte-Convention-Center-2024-1-1.avif
END:VEVENT
END:VCALENDAR