BEGIN:VCALENDAR
VERSION:2.0
PRODID:-//UV+EB Technology - ECPv6.15.20//NONSGML v1.0//EN
CALSCALE:GREGORIAN
METHOD:PUBLISH
X-WR-CALNAME:UV+EB Technology
X-ORIGINAL-URL:https://uvebtech.com
X-WR-CALDESC:Events for UV+EB Technology
REFRESH-INTERVAL;VALUE=DURATION:PT1H
X-Robots-Tag:noindex
X-PUBLISHED-TTL:PT1H
BEGIN:VTIMEZONE
TZID:America/Chicago
BEGIN:DAYLIGHT
TZOFFSETFROM:-0600
TZOFFSETTO:-0500
TZNAME:CDT
DTSTART:20250309T080000
END:DAYLIGHT
BEGIN:STANDARD
TZOFFSETFROM:-0500
TZOFFSETTO:-0600
TZNAME:CST
DTSTART:20251102T070000
END:STANDARD
BEGIN:DAYLIGHT
TZOFFSETFROM:-0600
TZOFFSETTO:-0500
TZNAME:CDT
DTSTART:20260308T080000
END:DAYLIGHT
BEGIN:STANDARD
TZOFFSETFROM:-0500
TZOFFSETTO:-0600
TZNAME:CST
DTSTART:20261101T070000
END:STANDARD
BEGIN:DAYLIGHT
TZOFFSETFROM:-0600
TZOFFSETTO:-0500
TZNAME:CDT
DTSTART:20270314T080000
END:DAYLIGHT
BEGIN:STANDARD
TZOFFSETFROM:-0500
TZOFFSETTO:-0600
TZNAME:CST
DTSTART:20271107T070000
END:STANDARD
END:VTIMEZONE
BEGIN:VEVENT
DTSTART;VALUE=DATE:20260709
DTEND;VALUE=DATE:20260710
DTSTAMP:20260423T121622
CREATED:20260421T150218Z
LAST-MODIFIED:20260421T150218Z
UID:12467-1783555200-1783641599@uvebtech.com
SUMMARY:RadTech Visit to Purdue University
DESCRIPTION:July 9\, 2026 • West Lafayette\, IN\nMore Details Coming Soon!
URL:https://uvebtech.com/event/radtech-visit-to-purdue-university/
CATEGORIES:Meeting
ATTACH;FMTTYPE=image/webp:https://uvebtech.com/wp-content/uploads/Radtech-Purdue-Meeting.webp
END:VEVENT
BEGIN:VEVENT
DTSTART;VALUE=DATE:20260907
DTEND;VALUE=DATE:20260912
DTSTAMP:20260423T121622
CREATED:20250924T191103Z
LAST-MODIFIED:20260402T201751Z
UID:11889-1788739200-1789171199@uvebtech.com
SUMMARY:9th European Symposium of Photopolymer Sciences (ESPS)
DESCRIPTION:We are happy to announce that abstract submission and registration are open now for the 9th European Symposium of Photopolymer Sciences (ESPS)\, held in Vienna from September 7-11\, 2026. The organizers expect about 400–500 participants\, well-balanced between academia and industry. This is the largest conference in Europe on the Photopolymer Sciences topic. \nAdditionally\, the confirmed invited speakers have been announced. Organizers were fortunate to be able to bring together the brightest minds from both academia and industry to collectively present and discuss the fundamental issues within this still burgeoning field. So here is the final list of plenary speakers: \n\nChristopher Barner-Kowollik\nChristopher Bowman\nCyrille Boyer\nDavid Haddleton\nCraig Hawker\nStefan Hecht\nKrzysztof Matyaszewski\n\nRecently\, the conference has also finalized an impressive daily social program. This includes: \n\na welcome reception at the town hall on Monday\,\ndifferent short excursions and an evening poster session on Tuesday\,\na large excursion to Schönbrunn Palace on Wednesday\nand finally\, the conference dinner at the “Schweizer Haus” on Thursday.\n\nOf course\, all these events are included in the registration fee! \nIn addition\, you can find some other reasons to attend this conference: \n\n60+ invited speakers\, including plenary speakers\, academic lectures and experts from industry.\nNumerous hot topics like fundamentals of photopolymerization\, coatings\, electronics\, 3D printing and biomedical applications.\nA daily social program will offer opportunities to explore Vienna’s numerous historic and cultural sites and facilitate interaction with colleagues.\nOver 400 participants with a good balance between academia and industry.\nNumerous exhibitors presenting their latest products and processes.\n9 Awards for students and scientists at the beginning of their careers.
URL:https://uvebtech.com/event/9th-european-symposium-of-photopolymer-sciences-esps/
CATEGORIES:Conference,Meeting
ATTACH;FMTTYPE=image/webp:https://uvebtech.com/wp-content/uploads/esps2026.webp
END:VEVENT
BEGIN:VEVENT
DTSTART;VALUE=DATE:20260921
DTEND;VALUE=DATE:20260924
DTSTAMP:20260423T121622
CREATED:20250917T204821Z
LAST-MODIFIED:20260323T161401Z
UID:11838-1789948800-1790207999@uvebtech.com
SUMMARY:National Coil Coating Association (NCCA) Fall Technical Meeting 2026
DESCRIPTION:The NCCA Fall Technical meeting will be held September 21-23\, 2026\, at the Sheraton Pittsburgh Hotel at Station Square in Pittsburgh\, Pennslyvania. \n 
URL:https://uvebtech.com/event/national-coil-coating-association-ncca-fall-technical-meeting-2026/
CATEGORIES:Meeting
END:VEVENT
END:VCALENDAR