BEGIN:VCALENDAR
VERSION:2.0
PRODID:-//UV+EB Technology - ECPv6.15.20//NONSGML v1.0//EN
CALSCALE:GREGORIAN
METHOD:PUBLISH
X-WR-CALNAME:UV+EB Technology
X-ORIGINAL-URL:https://uvebtech.com
X-WR-CALDESC:Events for UV+EB Technology
REFRESH-INTERVAL;VALUE=DURATION:PT1H
X-Robots-Tag:noindex
X-PUBLISHED-TTL:PT1H
BEGIN:VTIMEZONE
TZID:America/Chicago
BEGIN:DAYLIGHT
TZOFFSETFROM:-0600
TZOFFSETTO:-0500
TZNAME:CDT
DTSTART:20260308T080000
END:DAYLIGHT
BEGIN:STANDARD
TZOFFSETFROM:-0500
TZOFFSETTO:-0600
TZNAME:CST
DTSTART:20261101T070000
END:STANDARD
BEGIN:DAYLIGHT
TZOFFSETFROM:-0600
TZOFFSETTO:-0500
TZNAME:CDT
DTSTART:20270314T080000
END:DAYLIGHT
BEGIN:STANDARD
TZOFFSETFROM:-0500
TZOFFSETTO:-0600
TZNAME:CST
DTSTART:20271107T070000
END:STANDARD
BEGIN:DAYLIGHT
TZOFFSETFROM:-0600
TZOFFSETTO:-0500
TZNAME:CDT
DTSTART:20280312T080000
END:DAYLIGHT
BEGIN:STANDARD
TZOFFSETFROM:-0500
TZOFFSETTO:-0600
TZNAME:CST
DTSTART:20281105T070000
END:STANDARD
BEGIN:DAYLIGHT
TZOFFSETFROM:-0600
TZOFFSETTO:-0500
TZNAME:CDT
DTSTART:20290311T080000
END:DAYLIGHT
BEGIN:STANDARD
TZOFFSETFROM:-0500
TZOFFSETTO:-0600
TZNAME:CST
DTSTART:20291104T070000
END:STANDARD
BEGIN:DAYLIGHT
TZOFFSETFROM:-0600
TZOFFSETTO:-0500
TZNAME:CDT
DTSTART:20300310T080000
END:DAYLIGHT
BEGIN:STANDARD
TZOFFSETFROM:-0500
TZOFFSETTO:-0600
TZNAME:CST
DTSTART:20301103T070000
END:STANDARD
BEGIN:DAYLIGHT
TZOFFSETFROM:-0600
TZOFFSETTO:-0500
TZNAME:CDT
DTSTART:20310309T080000
END:DAYLIGHT
BEGIN:STANDARD
TZOFFSETFROM:-0500
TZOFFSETTO:-0600
TZNAME:CST
DTSTART:20311102T070000
END:STANDARD
BEGIN:DAYLIGHT
TZOFFSETFROM:-0600
TZOFFSETTO:-0500
TZNAME:CDT
DTSTART:20320314T080000
END:DAYLIGHT
BEGIN:STANDARD
TZOFFSETFROM:-0500
TZOFFSETTO:-0600
TZNAME:CST
DTSTART:20321107T070000
END:STANDARD
BEGIN:DAYLIGHT
TZOFFSETFROM:-0600
TZOFFSETTO:-0500
TZNAME:CDT
DTSTART:20330313T080000
END:DAYLIGHT
BEGIN:STANDARD
TZOFFSETFROM:-0500
TZOFFSETTO:-0600
TZNAME:CST
DTSTART:20331106T070000
END:STANDARD
BEGIN:DAYLIGHT
TZOFFSETFROM:-0600
TZOFFSETTO:-0500
TZNAME:CDT
DTSTART:20340312T080000
END:DAYLIGHT
BEGIN:STANDARD
TZOFFSETFROM:-0500
TZOFFSETTO:-0600
TZNAME:CST
DTSTART:20341105T070000
END:STANDARD
END:VTIMEZONE
BEGIN:VEVENT
DTSTART;VALUE=DATE:20270503
DTEND;VALUE=DATE:20270508
DTSTAMP:20260423T121607
CREATED:20231207T163540Z
LAST-MODIFIED:20231207T164301Z
UID:9473-1809302400-1809734399@uvebtech.com
SUMMARY:NPE2027
DESCRIPTION:NPE2027: May 3 – 7\, 2027\nOrange County Convention Center\nOrlando\, Florida
URL:https://uvebtech.com/event/npe2027/
LOCATION:MN
CATEGORIES:Conference,Tradeshow
ATTACH;FMTTYPE=image/webp:https://uvebtech.com/wp-content/uploads/Plastics-IA-wp-2.webp
END:VEVENT
BEGIN:VEVENT
DTSTART;VALUE=DATE:20300506
DTEND;VALUE=DATE:20300511
DTSTAMP:20260423T121607
CREATED:20231207T164007Z
LAST-MODIFIED:20231207T164007Z
UID:9477-1904256000-1904687999@uvebtech.com
SUMMARY:NPE2030
DESCRIPTION:NPE2030\nOrange County Convention Center\nOrlando\, Florida
URL:https://uvebtech.com/event/npe2030/
LOCATION:MN
CATEGORIES:Conference,Tradeshow
ATTACH;FMTTYPE=image/webp:https://uvebtech.com/wp-content/uploads/Plastics-IA-wp-3.webp
END:VEVENT
BEGIN:VEVENT
DTSTART;VALUE=DATE:20330502
DTEND;VALUE=DATE:20330507
DTSTAMP:20260423T121607
CREATED:20231207T164219Z
LAST-MODIFIED:20231207T164219Z
UID:9480-1998604800-1999036799@uvebtech.com
SUMMARY:NPE2033
DESCRIPTION:NPE2033\nOrange County Convention Center\nOrlando\, Florida
URL:https://uvebtech.com/event/npe2033/
LOCATION:MN
CATEGORIES:Conference,Tradeshow
ATTACH;FMTTYPE=image/webp:https://uvebtech.com/wp-content/uploads/Plastics-IA-wp-4.webp
END:VEVENT
END:VCALENDAR